BEGIN:VCALENDAR
VERSION:2.0
PRODID:-//Foyer rural de Aussonne - ECPv6.15.20//NONSGML v1.0//EN
CALSCALE:GREGORIAN
METHOD:PUBLISH
X-WR-CALNAME:Foyer rural de Aussonne
X-ORIGINAL-URL:https://www.foyer-rural-aussonne.fr
X-WR-CALDESC:Évènements pour Foyer rural de Aussonne
REFRESH-INTERVAL;VALUE=DURATION:PT1H
X-Robots-Tag:noindex
X-PUBLISHED-TTL:PT1H
BEGIN:VTIMEZONE
TZID:Europe/Paris
BEGIN:DAYLIGHT
TZOFFSETFROM:+0100
TZOFFSETTO:+0200
TZNAME:CEST
DTSTART:20240331T010000
END:DAYLIGHT
BEGIN:STANDARD
TZOFFSETFROM:+0200
TZOFFSETTO:+0100
TZNAME:CET
DTSTART:20241027T010000
END:STANDARD
BEGIN:DAYLIGHT
TZOFFSETFROM:+0100
TZOFFSETTO:+0200
TZNAME:CEST
DTSTART:20250330T010000
END:DAYLIGHT
BEGIN:STANDARD
TZOFFSETFROM:+0200
TZOFFSETTO:+0100
TZNAME:CET
DTSTART:20251026T010000
END:STANDARD
BEGIN:DAYLIGHT
TZOFFSETFROM:+0100
TZOFFSETTO:+0200
TZNAME:CEST
DTSTART:20260329T010000
END:DAYLIGHT
BEGIN:STANDARD
TZOFFSETFROM:+0200
TZOFFSETTO:+0100
TZNAME:CET
DTSTART:20261025T010000
END:STANDARD
END:VTIMEZONE
BEGIN:VEVENT
DTSTART;TZID=Europe/Paris:20250927T090000
DTEND;TZID=Europe/Paris:20250927T130000
DTSTAMP:20260419T215459
CREATED:20250822T165426Z
LAST-MODIFIED:20250910T105443Z
UID:8668-1758963600-1758978000@www.foyer-rural-aussonne.fr
SUMMARY:Atelier couture
DESCRIPTION:Nouveau\, inscrivez-vous directement à vos ateliers couture directement en suivant ce lien. \nDeja inscrit sur gestionnel gagnez du temps avec ce lien \nOu en flashant ce qrCode
URL:https://www.foyer-rural-aussonne.fr/evenements/atelier-couture-8/
LOCATION:Foyer rural\, 8 place du 8 mai 1945\, 31840 Aussonne\, France
CATEGORIES:Atelier couture,une
ATTACH;FMTTYPE=image/png:https://www.foyer-rural-aussonne.fr/wp-content/uploads/2025/08/machine-a-coudre-1.png
END:VEVENT
BEGIN:VEVENT
DTSTART;TZID=Europe/Paris:20250927T140000
DTEND;TZID=Europe/Paris:20250927T180000
DTSTAMP:20260419T215459
CREATED:20250911T192440Z
LAST-MODIFIED:20250911T192440Z
UID:8969-1758981600-1758996000@www.foyer-rural-aussonne.fr
SUMMARY:Atelier couture
DESCRIPTION:Nouveau\, inscrivez-vous directement à vos ateliers couture directement en suivant ce lien. \nDeja inscrit sur gestionnel gagnez du temps avec ce lien \nOu en flashant ce qrCode
URL:https://www.foyer-rural-aussonne.fr/evenements/atelier-couture-9/
LOCATION:Foyer rural\, 8 place du 8 mai 1945\, 31840 Aussonne\, France
CATEGORIES:Atelier couture,une
ATTACH;FMTTYPE=image/png:https://www.foyer-rural-aussonne.fr/wp-content/uploads/2025/08/machine-a-coudre-1.png
END:VEVENT
END:VCALENDAR