BEGIN:VCALENDAR
VERSION:2.0
PRODID:-//Foyer rural de Aussonne - ECPv6.15.20//NONSGML v1.0//EN
CALSCALE:GREGORIAN
METHOD:PUBLISH
X-WR-CALNAME:Foyer rural de Aussonne
X-ORIGINAL-URL:https://www.foyer-rural-aussonne.fr
X-WR-CALDESC:Évènements pour Foyer rural de Aussonne
REFRESH-INTERVAL;VALUE=DURATION:PT1H
X-Robots-Tag:noindex
X-PUBLISHED-TTL:PT1H
BEGIN:VTIMEZONE
TZID:Europe/Paris
BEGIN:DAYLIGHT
TZOFFSETFROM:+0100
TZOFFSETTO:+0200
TZNAME:CEST
DTSTART:20240331T010000
END:DAYLIGHT
BEGIN:STANDARD
TZOFFSETFROM:+0200
TZOFFSETTO:+0100
TZNAME:CET
DTSTART:20241027T010000
END:STANDARD
BEGIN:DAYLIGHT
TZOFFSETFROM:+0100
TZOFFSETTO:+0200
TZNAME:CEST
DTSTART:20250330T010000
END:DAYLIGHT
BEGIN:STANDARD
TZOFFSETFROM:+0200
TZOFFSETTO:+0100
TZNAME:CET
DTSTART:20251026T010000
END:STANDARD
BEGIN:DAYLIGHT
TZOFFSETFROM:+0100
TZOFFSETTO:+0200
TZNAME:CEST
DTSTART:20260329T010000
END:DAYLIGHT
BEGIN:STANDARD
TZOFFSETFROM:+0200
TZOFFSETTO:+0100
TZNAME:CET
DTSTART:20261025T010000
END:STANDARD
END:VTIMEZONE
BEGIN:VEVENT
DTSTART;TZID=Europe/Paris:20250614T090000
DTEND;TZID=Europe/Paris:20250614T130000
DTSTAMP:20260420T023206
CREATED:20240708T144514Z
LAST-MODIFIED:20250518T202102Z
UID:7068-1749891600-1749906000@www.foyer-rural-aussonne.fr
SUMMARY:Atelier couture
DESCRIPTION:Sac tapis de plage
URL:https://www.foyer-rural-aussonne.fr/evenements/7022-copy-copy-copy-2-copy-2-copy-2-copy-3-copy-2-copy-copy-copy-copy/
LOCATION:Foyer rural\, 8 place du 8 mai 1945\, 31840 Aussonne\, France
CATEGORIES:Atelier couture,une
ATTACH;FMTTYPE=image/jpeg:https://www.foyer-rural-aussonne.fr/wp-content/uploads/2022/04/machine-a-coudre.jpg
END:VEVENT
BEGIN:VEVENT
DTSTART;TZID=Europe/Paris:20250614T140000
DTEND;TZID=Europe/Paris:20250614T180000
DTSTAMP:20260420T023206
CREATED:20240708T144424Z
LAST-MODIFIED:20250518T202044Z
UID:7066-1749909600-1749924000@www.foyer-rural-aussonne.fr
SUMMARY:Atelier couture
DESCRIPTION:Sac tapis de plage
URL:https://www.foyer-rural-aussonne.fr/evenements/7022-copy-copy-copy-2-copy-2-copy-2-copy-3-copy-2-copy-copy-copy-2/
LOCATION:Foyer rural\, 8 place du 8 mai 1945\, 31840 Aussonne\, France
CATEGORIES:Atelier couture,une
ATTACH;FMTTYPE=image/jpeg:https://www.foyer-rural-aussonne.fr/wp-content/uploads/2022/04/machine-a-coudre.jpg
END:VEVENT
END:VCALENDAR