BEGIN:VCALENDAR
VERSION:2.0
PRODID:-//Foyer rural de Aussonne - ECPv6.15.20//NONSGML v1.0//EN
CALSCALE:GREGORIAN
METHOD:PUBLISH
X-WR-CALNAME:Foyer rural de Aussonne
X-ORIGINAL-URL:https://www.foyer-rural-aussonne.fr
X-WR-CALDESC:Évènements pour Foyer rural de Aussonne
REFRESH-INTERVAL;VALUE=DURATION:PT1H
X-Robots-Tag:noindex
X-PUBLISHED-TTL:PT1H
BEGIN:VTIMEZONE
TZID:Europe/Paris
BEGIN:DAYLIGHT
TZOFFSETFROM:+0100
TZOFFSETTO:+0200
TZNAME:CEST
DTSTART:20220327T010000
END:DAYLIGHT
BEGIN:STANDARD
TZOFFSETFROM:+0200
TZOFFSETTO:+0100
TZNAME:CET
DTSTART:20221030T010000
END:STANDARD
BEGIN:DAYLIGHT
TZOFFSETFROM:+0100
TZOFFSETTO:+0200
TZNAME:CEST
DTSTART:20230326T010000
END:DAYLIGHT
BEGIN:STANDARD
TZOFFSETFROM:+0200
TZOFFSETTO:+0100
TZNAME:CET
DTSTART:20231029T010000
END:STANDARD
BEGIN:DAYLIGHT
TZOFFSETFROM:+0100
TZOFFSETTO:+0200
TZNAME:CEST
DTSTART:20240331T010000
END:DAYLIGHT
BEGIN:STANDARD
TZOFFSETFROM:+0200
TZOFFSETTO:+0100
TZNAME:CET
DTSTART:20241027T010000
END:STANDARD
BEGIN:DAYLIGHT
TZOFFSETFROM:+0100
TZOFFSETTO:+0200
TZNAME:CEST
DTSTART:20250330T010000
END:DAYLIGHT
BEGIN:STANDARD
TZOFFSETFROM:+0200
TZOFFSETTO:+0100
TZNAME:CET
DTSTART:20251026T010000
END:STANDARD
BEGIN:DAYLIGHT
TZOFFSETFROM:+0100
TZOFFSETTO:+0200
TZNAME:CEST
DTSTART:20260329T010000
END:DAYLIGHT
BEGIN:STANDARD
TZOFFSETFROM:+0200
TZOFFSETTO:+0100
TZNAME:CET
DTSTART:20261025T010000
END:STANDARD
BEGIN:DAYLIGHT
TZOFFSETFROM:+0100
TZOFFSETTO:+0200
TZNAME:CEST
DTSTART:20270328T010000
END:DAYLIGHT
BEGIN:STANDARD
TZOFFSETFROM:+0200
TZOFFSETTO:+0100
TZNAME:CET
DTSTART:20271031T010000
END:STANDARD
END:VTIMEZONE
BEGIN:VEVENT
DTSTART;TZID=Europe/Paris:20250909T100000
DTEND;TZID=Europe/Paris:20260710T200000
DTSTAMP:20260422T013700
CREATED:20260412T080012Z
LAST-MODIFIED:20260414T132811Z
UID:7300-1757412000-1783713600@www.foyer-rural-aussonne.fr
SUMMARY:Permanence du Foyer
DESCRIPTION:Le Foyer Rural est ouvert tous les mercredis de 14h à 18h (Hors période de vacances scolaires).
URL:https://www.foyer-rural-aussonne.fr/evenements/permanence-foyer-rural-aussonne/
LOCATION:Foyer rural de Aussonne\, 8 Place du 8 Mai 1945\, 31840 Aussonne\, 31840\, France
ATTACH;FMTTYPE=image/jpeg:https://www.foyer-rural-aussonne.fr/wp-content/uploads/2024/09/gym-light-scaled.jpg
END:VEVENT
BEGIN:VEVENT
DTSTART;TZID=Europe/Paris:20260414T080000
DTEND;TZID=Europe/Paris:20260710T170000
DTSTAMP:20260422T013700
CREATED:20260414T134745Z
LAST-MODIFIED:20260414T162002Z
UID:9142-1776153600-1783702800@www.foyer-rural-aussonne.fr
SUMMARY:Octobre Rose : un bel élan de solidarité à Aussonne
DESCRIPTION:En octobre 2025\, le Foyer Rural d’Aussonne s’est mobilisé avec cœur dans le cadre d’Octobre Rose\, au profit de la Ligue contre le cancer 31. \nGrâce à l’implication de chacun\, cette belle action solidaire a permis de récolter des fonds et de remettre un chèque à l’association. Nous partageons aujourd’hui la photo de cette remise\, en présence de Marie Lafargue\, ancienne présidente du Foyer Rural d’Aussonne. \nMême si ce retour arrive un peu tardivement\, il n’en est pas moins sincère : la Ligue contre le cancer 31 nous a adressé ses remerciements chaleureux pour la mobilisation menée en octobre 2025. Ce délai s’explique par un manque de coordination lié au changement de présidence intervenu début décembre. \nNous retenons surtout l’essentiel : votre générosité\, votre présence et votre engagement ont permis de faire vivre une action utile\, porteuse de sens\, au service d’une cause qui nous concerne tous. \nUn grand merci à toutes celles et ceux qui ont participé à cette mobilisation.Par votre soutien\, vous avez contribué\, à votre manière\, à faire avancer la lutte contre le cancer.
URL:https://www.foyer-rural-aussonne.fr/evenements/octobre-rose-un-bel-elan-de-solidarite-a-aussonne/
LOCATION:Aussonne
CATEGORIES:une
ATTACH;FMTTYPE=image/jpeg:https://www.foyer-rural-aussonne.fr/wp-content/uploads/2026/04/IMG_2752-scaled.jpeg
END:VEVENT
BEGIN:VEVENT
DTSTART;TZID=Europe/Paris:20240904T093000
DTEND;TZID=Europe/Paris:20240904T101500
DTSTAMP:20260422T013700
CREATED:20240913T181812Z
LAST-MODIFIED:20250823T231004Z
UID:7411-1725442200-1725444900@www.foyer-rural-aussonne.fr
SUMMARY:Gym gym ball stretching
DESCRIPTION:
URL:https://www.foyer-rural-aussonne.fr/evenements/stretching-3/
LOCATION:Salle des fêtes de Aussonne\, 8 Place du 8 Mai 1945\, 31840 Aussonne
ATTACH;FMTTYPE=image/jpeg:https://www.foyer-rural-aussonne.fr/wp-content/uploads/2024/09/gym-light-scaled.jpg
END:VEVENT
BEGIN:VEVENT
DTSTART;TZID=Europe/Paris:20240904T101500
DTEND;TZID=Europe/Paris:20240904T110000
DTSTAMP:20260422T013700
CREATED:20240914T171244Z
LAST-MODIFIED:20250823T231415Z
UID:7504-1725444900-1725447600@www.foyer-rural-aussonne.fr
SUMMARY:Gym renforcement musculaire
DESCRIPTION:
URL:https://www.foyer-rural-aussonne.fr/evenements/oriental-fit-et-stretching-2/
LOCATION:Foyer rural de Aussonne\, 8 Place du 8 Mai 1945\, 31840 Aussonne\, 31840\, France
ATTACH;FMTTYPE=image/jpeg:https://www.foyer-rural-aussonne.fr/wp-content/uploads/2024/09/gym-light-scaled.jpg
END:VEVENT
BEGIN:VEVENT
DTSTART;TZID=Europe/Paris:20240904T140000
DTEND;TZID=Europe/Paris:20240904T150000
DTSTAMP:20260422T013700
CREATED:20240913T181534Z
LAST-MODIFIED:20250823T231824Z
UID:7408-1725458400-1725462000@www.foyer-rural-aussonne.fr
SUMMARY:Gym 5-8ans
DESCRIPTION:
URL:https://www.foyer-rural-aussonne.fr/evenements/gym-ball-stretching/
LOCATION:Salle des fêtes de Aussonne\, 8 Place du 8 Mai 1945\, 31840 Aussonne
ATTACH;FMTTYPE=image/jpeg:https://www.foyer-rural-aussonne.fr/wp-content/uploads/2024/09/gym-light-scaled.jpg
END:VEVENT
BEGIN:VEVENT
DTSTART;TZID=Europe/Paris:20230322T140000
DTEND;TZID=Europe/Paris:20230322T180000
DTSTAMP:20260422T013700
CREATED:20230123T211145Z
LAST-MODIFIED:20231206T122517Z
UID:4145-1679493600-1679508000@www.foyer-rural-aussonne.fr
SUMMARY:Permanence du foyer rural
DESCRIPTION:Retrouvez-nous les mercredis après midi pour toute adhésion ou pour une simple question sur les activités du foyer. \n\n\n\n 
URL:https://www.foyer-rural-aussonne.fr/evenements/permanence-du-foyer-rural2-copy-copy-2/
LOCATION:Foyer rural de Aussonne\, 8 place du 8 mai 1945\, Aussonne\, 31840\, France
ATTACH;FMTTYPE=image/jpeg:https://www.foyer-rural-aussonne.fr/wp-content/uploads/2023/01/20230112_095441-scaled.jpg
END:VEVENT
BEGIN:VEVENT
DTSTART;TZID=Europe/Paris:20240904T143000
DTEND;TZID=Europe/Paris:20240904T160000
DTSTAMP:20260422T013700
CREATED:20240913T182846Z
LAST-MODIFIED:20250823T230250Z
UID:7420-1725460200-1725465600@www.foyer-rural-aussonne.fr
SUMMARY:Poterie enfants/ados
DESCRIPTION:
URL:https://www.foyer-rural-aussonne.fr/evenements/poterie-enfants-ados-2/
LOCATION:Foyer rural de Aussonne\, 8 Place du 8 Mai 1945\, 31840 Aussonne\, 31840\, France
ATTACH;FMTTYPE=image/jpeg:https://www.foyer-rural-aussonne.fr/wp-content/uploads/2024/02/PXL_20240110_191559293-scaled.jpg
END:VEVENT
BEGIN:VEVENT
DTSTART;TZID=Europe/Paris:20240904T150000
DTEND;TZID=Europe/Paris:20240904T160000
DTSTAMP:20260422T013700
CREATED:20250823T231919Z
LAST-MODIFIED:20250823T231919Z
UID:8735-1725462000-1725465600@www.foyer-rural-aussonne.fr
SUMMARY:Gym 9-14ans
DESCRIPTION:
URL:https://www.foyer-rural-aussonne.fr/evenements/gym-9-14ans/
LOCATION:Salle des fêtes de Aussonne\, 8 Place du 8 Mai 1945\, 31840 Aussonne
ATTACH;FMTTYPE=image/jpeg:https://www.foyer-rural-aussonne.fr/wp-content/uploads/2024/09/gym-light-scaled.jpg
END:VEVENT
BEGIN:VEVENT
DTSTART;TZID=Europe/Paris:20240904T154500
DTEND;TZID=Europe/Paris:20240904T164500
DTSTAMP:20260422T013700
CREATED:20240913T184328Z
LAST-MODIFIED:20250823T225753Z
UID:7429-1725464700-1725468300@www.foyer-rural-aussonne.fr
SUMMARY:Dessins/bd mangas (-de12ans)
DESCRIPTION:
URL:https://www.foyer-rural-aussonne.fr/evenements/dessins-bd-mangas-de12ans-2/
LOCATION:Salle N1\, 31840\, 31840\, France
ATTACH;FMTTYPE=image/jpeg:https://www.foyer-rural-aussonne.fr/wp-content/uploads/2022/08/flyer-BD-manga-scaled.jpg
END:VEVENT
BEGIN:VEVENT
DTSTART;TZID=Europe/Paris:20240904T160000
DTEND;TZID=Europe/Paris:20240904T170000
DTSTAMP:20260422T013700
CREATED:20240914T135546Z
LAST-MODIFIED:20250901T123647Z
UID:7437-1725465600-1725469200@www.foyer-rural-aussonne.fr
SUMMARY:Danse orientale enfant 6/11 ans
DESCRIPTION:
URL:https://www.foyer-rural-aussonne.fr/evenements/danseorientaleenfant7-11ans/
LOCATION:Foyer rural de Aussonne\, 8 place du 8 mai 1945\, Aussonne\, 31840\, France
ATTACH;FMTTYPE=image/jpeg:https://www.foyer-rural-aussonne.fr/wp-content/uploads/2024/09/Copie-de-Photo-Ballet-Danse-Flyer_20240918_083742_0000.jpg
END:VEVENT
END:VCALENDAR