BEGIN:VCALENDAR
VERSION:2.0
PRODID:-//Foyer rural de Aussonne - ECPv6.15.20//NONSGML v1.0//EN
CALSCALE:GREGORIAN
METHOD:PUBLISH
X-WR-CALNAME:Foyer rural de Aussonne
X-ORIGINAL-URL:https://www.foyer-rural-aussonne.fr
X-WR-CALDESC:Évènements pour Foyer rural de Aussonne
REFRESH-INTERVAL;VALUE=DURATION:PT1H
X-Robots-Tag:noindex
X-PUBLISHED-TTL:PT1H
BEGIN:VTIMEZONE
TZID:Europe/Paris
BEGIN:DAYLIGHT
TZOFFSETFROM:+0100
TZOFFSETTO:+0200
TZNAME:CEST
DTSTART:20230326T010000
END:DAYLIGHT
BEGIN:STANDARD
TZOFFSETFROM:+0200
TZOFFSETTO:+0100
TZNAME:CET
DTSTART:20231029T010000
END:STANDARD
BEGIN:DAYLIGHT
TZOFFSETFROM:+0100
TZOFFSETTO:+0200
TZNAME:CEST
DTSTART:20240331T010000
END:DAYLIGHT
BEGIN:STANDARD
TZOFFSETFROM:+0200
TZOFFSETTO:+0100
TZNAME:CET
DTSTART:20241027T010000
END:STANDARD
BEGIN:DAYLIGHT
TZOFFSETFROM:+0100
TZOFFSETTO:+0200
TZNAME:CEST
DTSTART:20250330T010000
END:DAYLIGHT
BEGIN:STANDARD
TZOFFSETFROM:+0200
TZOFFSETTO:+0100
TZNAME:CET
DTSTART:20251026T010000
END:STANDARD
BEGIN:DAYLIGHT
TZOFFSETFROM:+0100
TZOFFSETTO:+0200
TZNAME:CEST
DTSTART:20260329T010000
END:DAYLIGHT
BEGIN:STANDARD
TZOFFSETFROM:+0200
TZOFFSETTO:+0100
TZNAME:CET
DTSTART:20261025T010000
END:STANDARD
BEGIN:DAYLIGHT
TZOFFSETFROM:+0100
TZOFFSETTO:+0200
TZNAME:CEST
DTSTART:20270328T010000
END:DAYLIGHT
BEGIN:STANDARD
TZOFFSETFROM:+0200
TZOFFSETTO:+0100
TZNAME:CET
DTSTART:20271031T010000
END:STANDARD
END:VTIMEZONE
BEGIN:VEVENT
DTSTART;TZID=Europe/Paris:20250909T100000
DTEND;TZID=Europe/Paris:20260710T200000
DTSTAMP:20260421T013302
CREATED:20260412T080012Z
LAST-MODIFIED:20260414T132811Z
UID:7300-1757412000-1783713600@www.foyer-rural-aussonne.fr
SUMMARY:Permanence du Foyer
DESCRIPTION:Le Foyer Rural est ouvert tous les mercredis de 14h à 18h (Hors période de vacances scolaires).
URL:https://www.foyer-rural-aussonne.fr/evenements/permanence-foyer-rural-aussonne/
LOCATION:Foyer rural de Aussonne\, 8 Place du 8 Mai 1945\, 31840 Aussonne\, 31840\, France
ATTACH;FMTTYPE=image/jpeg:https://www.foyer-rural-aussonne.fr/wp-content/uploads/2024/09/gym-light-scaled.jpg
END:VEVENT
BEGIN:VEVENT
DTSTART;TZID=Europe/Paris:20260414T080000
DTEND;TZID=Europe/Paris:20260710T170000
DTSTAMP:20260421T013302
CREATED:20260414T134745Z
LAST-MODIFIED:20260414T162002Z
UID:9142-1776153600-1783702800@www.foyer-rural-aussonne.fr
SUMMARY:Octobre Rose : un bel élan de solidarité à Aussonne
DESCRIPTION:En octobre 2025\, le Foyer Rural d’Aussonne s’est mobilisé avec cœur dans le cadre d’Octobre Rose\, au profit de la Ligue contre le cancer 31. \nGrâce à l’implication de chacun\, cette belle action solidaire a permis de récolter des fonds et de remettre un chèque à l’association. Nous partageons aujourd’hui la photo de cette remise\, en présence de Marie Lafargue\, ancienne présidente du Foyer Rural d’Aussonne. \nMême si ce retour arrive un peu tardivement\, il n’en est pas moins sincère : la Ligue contre le cancer 31 nous a adressé ses remerciements chaleureux pour la mobilisation menée en octobre 2025. Ce délai s’explique par un manque de coordination lié au changement de présidence intervenu début décembre. \nNous retenons surtout l’essentiel : votre générosité\, votre présence et votre engagement ont permis de faire vivre une action utile\, porteuse de sens\, au service d’une cause qui nous concerne tous. \nUn grand merci à toutes celles et ceux qui ont participé à cette mobilisation.Par votre soutien\, vous avez contribué\, à votre manière\, à faire avancer la lutte contre le cancer.
URL:https://www.foyer-rural-aussonne.fr/evenements/octobre-rose-un-bel-elan-de-solidarite-a-aussonne/
LOCATION:Aussonne
CATEGORIES:une
ATTACH;FMTTYPE=image/jpeg:https://www.foyer-rural-aussonne.fr/wp-content/uploads/2026/04/IMG_2752-scaled.jpeg
END:VEVENT
BEGIN:VEVENT
DTSTART;TZID=Europe/Paris:20250826T093000
DTEND;TZID=Europe/Paris:20250826T101500
DTSTAMP:20260421T013302
CREATED:20250824T074732Z
LAST-MODIFIED:20250824T074732Z
UID:8749-1756200600-1756203300@www.foyer-rural-aussonne.fr
SUMMARY:Gym renfort zen
DESCRIPTION:
URL:https://www.foyer-rural-aussonne.fr/evenements/gym-bien-etre-2-2/
LOCATION:Salle des fêtes de Aussonne\, 8 Place du 8 Mai 1945\, 31840 Aussonne
ATTACH;FMTTYPE=image/jpeg:https://www.foyer-rural-aussonne.fr/wp-content/uploads/2024/09/gym-light-scaled.jpg
END:VEVENT
BEGIN:VEVENT
DTSTART;TZID=Europe/Paris:20240903T101500
DTEND;TZID=Europe/Paris:20240903T110000
DTSTAMP:20260421T013302
CREATED:20240910T102738Z
LAST-MODIFIED:20250824T074453Z
UID:7290-1725358500-1725361200@www.foyer-rural-aussonne.fr
SUMMARY:Gym postural
DESCRIPTION:
URL:https://www.foyer-rural-aussonne.fr/evenements/gym-pilates/
LOCATION:Salle des fêtes de Aussonne\, 8 Place du 8 Mai 1945\, 31840 Aussonne
ATTACH;FMTTYPE=image/jpeg:https://www.foyer-rural-aussonne.fr/wp-content/uploads/2024/09/gym-light-scaled.jpg
END:VEVENT
BEGIN:VEVENT
DTSTART;TZID=Europe/Paris:20250909T100000
DTEND;TZID=Europe/Paris:20260710T200000
DTSTAMP:20260421T013302
CREATED:20260412T080012Z
LAST-MODIFIED:20260414T132811Z
UID:7300-1757412000-1783713600@www.foyer-rural-aussonne.fr
SUMMARY:Permanence du Foyer
DESCRIPTION:Le Foyer Rural est ouvert tous les mercredis de 14h à 18h (Hors période de vacances scolaires).
URL:https://www.foyer-rural-aussonne.fr/evenements/permanence-foyer-rural-aussonne/
LOCATION:Foyer rural de Aussonne\, 8 Place du 8 Mai 1945\, 31840 Aussonne\, 31840\, France
ATTACH;FMTTYPE=image/jpeg:https://www.foyer-rural-aussonne.fr/wp-content/uploads/2024/09/gym-light-scaled.jpg
END:VEVENT
BEGIN:VEVENT
DTSTART;TZID=Europe/Paris:20240903T200000
DTEND;TZID=Europe/Paris:20240903T210000
DTSTAMP:20260421T013302
CREATED:20250824T073831Z
LAST-MODIFIED:20250824T073831Z
UID:8745-1725393600-1725397200@www.foyer-rural-aussonne.fr
SUMMARY:Gym Circuit training
DESCRIPTION:
URL:https://www.foyer-rural-aussonne.fr/evenements/gym-circuit-training/
LOCATION:Salle des fêtes de Aussonne\, 8 Place du 8 Mai 1945\, 31840 Aussonne
ATTACH;FMTTYPE=image/jpeg:https://www.foyer-rural-aussonne.fr/wp-content/uploads/2024/09/gym-light-scaled.jpg
END:VEVENT
END:VCALENDAR